BEGIN:VCALENDAR
VERSION:2.0
PRODID:-//Fachwerk Langenfeld - ECPv6.15.20//NONSGML v1.0//EN
CALSCALE:GREGORIAN
METHOD:PUBLISH
X-WR-CALNAME:Fachwerk Langenfeld
X-ORIGINAL-URL:https://fachwerk-langenfeld.de
X-WR-CALDESC:Veranstaltungen für Fachwerk Langenfeld
REFRESH-INTERVAL;VALUE=DURATION:PT1H
X-Robots-Tag:noindex
X-PUBLISHED-TTL:PT1H
BEGIN:VTIMEZONE
TZID:Europe/Berlin
BEGIN:DAYLIGHT
TZOFFSETFROM:+0100
TZOFFSETTO:+0200
TZNAME:CEST
DTSTART:20250330T010000
END:DAYLIGHT
BEGIN:STANDARD
TZOFFSETFROM:+0200
TZOFFSETTO:+0100
TZNAME:CET
DTSTART:20251026T010000
END:STANDARD
BEGIN:DAYLIGHT
TZOFFSETFROM:+0100
TZOFFSETTO:+0200
TZNAME:CEST
DTSTART:20260329T010000
END:DAYLIGHT
BEGIN:STANDARD
TZOFFSETFROM:+0200
TZOFFSETTO:+0100
TZNAME:CET
DTSTART:20261025T010000
END:STANDARD
BEGIN:DAYLIGHT
TZOFFSETFROM:+0100
TZOFFSETTO:+0200
TZNAME:CEST
DTSTART:20270328T010000
END:DAYLIGHT
BEGIN:STANDARD
TZOFFSETFROM:+0200
TZOFFSETTO:+0100
TZNAME:CET
DTSTART:20271031T010000
END:STANDARD
END:VTIMEZONE
BEGIN:VEVENT
DTSTART;TZID=Europe/Berlin:20260509T090000
DTEND;TZID=Europe/Berlin:20260509T174500
DTSTAMP:20260422T045402
CREATED:20260225T073554Z
LAST-MODIFIED:20260225T073832Z
UID:10119-1778317200-1778348700@fachwerk-langenfeld.de
SUMMARY:ABU Barcamp 2026
DESCRIPTION:Eine Erfolgsgeschichte seit sechs Jahren\nSeit sechs Jahren bietet der ABU e.V. erfolgreich eine Plattform\, die Wissenstransfer und Empowerment auf höchstem Niveau vereint. Das innovative Konzept hat sich bewährt und ist zu einem festen Treffpunkt für Macherinnen und Ideengeberinnen im Rheinisch-Bergischen Kreis geworden. \nAlle selbstständigen Frauen und Frauen in Führungspositionen sind herzlich eingeladen. Wir haben keine regionalen Einschränkungen. \nWenn ihr bis zum 1. April euer Ticket sichert\, gilt für Fachwerkerinnen der Networker Early Bird Tarif! \nAlle Infos zum Ablauf und zu den Ticket findet ihr auf der ABU-Webseite: \nhttps://a-b-u.de/barcamp/ \nZeitlicher Ablauf\n09.00 – 09.30 Uhr | Check in & Frühstück\n09.30 – 10.30 Uhr | Klüngel und mehr – alle stellen sich vor\n10.30 – 11.00 Uhr | Planung der Sessions\n11.00 – 12.00 Uhr | Session Slot 1\n12.00 – 13.00 Uhr | Session Slot 2\n13.00 – 14.00 Uhr | Pause mit Lunch\n14.00 – 15.00 Uhr | Session Slot 3\n15.00 – 16.00 Uhr | Session Slot 4\n16.00 – 17.00 Uhr | Feedback mit Kaffee und Kuchen\n17.00 – 17.45 Uhr | offener Ausklang
URL:https://fachwerk-langenfeld.de/event/abu-barcamp-2026/
LOCATION:DRK Refrather Treff\, Steinbreche 30\, Bergisch Gladbach\, 51427
CATEGORIES:Event eines Partner-Netzwerks
ATTACH;FMTTYPE=image/webp:https://fachwerk-langenfeld.de/wp-content/uploads/2026/02/aktive-bergische-unternehmerinnen-barcamp-2026.webp
ORGANIZER;CN="ABU - Aktive Bergische Unternehmerinnen":MAILTO:kathrin@a-b-u.de
END:VEVENT
END:VCALENDAR