BEGIN:VCALENDAR
VERSION:2.0
PRODID:-//Fachwerk Langenfeld - ECPv6.15.20//NONSGML v1.0//EN
CALSCALE:GREGORIAN
METHOD:PUBLISH
X-WR-CALNAME:Fachwerk Langenfeld
X-ORIGINAL-URL:https://fachwerk-langenfeld.de
X-WR-CALDESC:Veranstaltungen für Fachwerk Langenfeld
REFRESH-INTERVAL;VALUE=DURATION:PT1H
X-Robots-Tag:noindex
X-PUBLISHED-TTL:PT1H
BEGIN:VTIMEZONE
TZID:Europe/Berlin
BEGIN:DAYLIGHT
TZOFFSETFROM:+0100
TZOFFSETTO:+0200
TZNAME:CEST
DTSTART:20250330T010000
END:DAYLIGHT
BEGIN:STANDARD
TZOFFSETFROM:+0200
TZOFFSETTO:+0100
TZNAME:CET
DTSTART:20251026T010000
END:STANDARD
BEGIN:DAYLIGHT
TZOFFSETFROM:+0100
TZOFFSETTO:+0200
TZNAME:CEST
DTSTART:20260329T010000
END:DAYLIGHT
BEGIN:STANDARD
TZOFFSETFROM:+0200
TZOFFSETTO:+0100
TZNAME:CET
DTSTART:20261025T010000
END:STANDARD
BEGIN:DAYLIGHT
TZOFFSETFROM:+0100
TZOFFSETTO:+0200
TZNAME:CEST
DTSTART:20270328T010000
END:DAYLIGHT
BEGIN:STANDARD
TZOFFSETFROM:+0200
TZOFFSETTO:+0100
TZNAME:CET
DTSTART:20271031T010000
END:STANDARD
BEGIN:DAYLIGHT
TZOFFSETFROM:+0100
TZOFFSETTO:+0200
TZNAME:CEST
DTSTART:20280326T010000
END:DAYLIGHT
BEGIN:STANDARD
TZOFFSETFROM:+0200
TZOFFSETTO:+0100
TZNAME:CET
DTSTART:20281029T010000
END:STANDARD
END:VTIMEZONE
BEGIN:VEVENT
DTSTART;TZID=Europe/Berlin:20261010T090000
DTEND;TZID=Europe/Berlin:20270330T170000
DTSTAMP:20260425T140609
CREATED:20260423T102800Z
LAST-MODIFIED:20260423T102800Z
UID:10327-1791622800-1806426000@fachwerk-langenfeld.de
SUMMARY:Create your World – Dein Weg in eine erfolgreiche Selbständigkeit
DESCRIPTION:Dein weiblicher Weg in eine erfolgreiche Selbstständigkeit \nCreate your World \nSelbstständig | Sichtbar | Erfolgreich – 6 Monate Intensiv-Coaching. \nErfolgreiche Selbstständigkeit entsteht nicht durch noch mehr To Dos.\nSondern durch Klarheit\, unterstützende Gemeinschaft und einem Weg\, der zu Dir passt. \nDu hast Wissen. Ideen. Vielleicht sogar schon Angebote.\nAber: \n\nneue Kunden kommen nicht planbar und zuverlässig\nDu fühlst Dich überfordert und alleine mit dem Marketing\nSichtbarkeit fühlt sich schwer und nicht nach Dir an\nFür Frauen\, die nicht nur träumen\, sondern ihr Herzensbuisness wirklich aufbauen wollen.\n\n6 Monate für Deine erfolgreiche Selbstständigkeit! \nDu möchtest begeistert Dein Herzensthema in die Welt bringen? Doch Du bist es leid\, Dich täglich alleine durchkämpfen zu müssen? \nHole Dir Deinen Schlüssel zum Erfolg: \nDu wirst Deine einzigartige Positionierung und Deinen Wert kennen.\nDu gehst selbstbewusst und sichtbar nach Außen und wirst gebucht.\nDu bist mit einem starken Mindset souveränen und erfolgreich.\nBusiness-Know-How trifft Umsetzungs-Power. \n\nZwei intensive Präsenz-Wochenenden\n15 Live-Calls mit Schritt-für-Schritt Anleitung\nOptional: Workshopleitung bei Frau Frühling\nStart: 10./11. Oktober 2026\n\nDu bist hier richtig \n„Create your World“ ist für motivierte Frauen\, die schon selbstständig sind und sichtbarer werden wollen. \nTausche Angst und Scham zu scheitern in Mut und Zuversicht. Lerne und wachse in einem geschützten Raum. \nWenn du Sorge hast\, dieses Leben zu vergeuden\, weil Du eigentlich etwas Größeres zu geben hast\, bist Du hier goldrichtig. \nFühle Dich getragen von Frauen\, die Dich unterstützen und feiern. \n„Create your World“ ist ideal für Online-Coaches\, Beraterinnen und Business-Queens die nicht länger struggeln wollen – starte hier! \nWer\, wie\, wo?\n1. Präsenz-Wochenende 10./11. Oktober 2026 in Wuppertal (Sa 10-21 Uhr / So 9-15 Uhr)\n2. Präsenz-Wochenende 6./7. März 2027 in Wuppertal (Sa 10-21 Uhr / So 9-15 Uhr)\nZwischen den Wochenenden 15 Live-Zoom-Calls mit Step-by-Step Anleitung inkl. Aufzeichnung.\nSämtliche Seminar-Skripte zur freien Verfügung.\nOptional: Leite Deinen eigenen Workshop auf dem Osterfestival „Frau Frühling“ \nCreate your World \nErwecke Deine persönliche Einzigartigkeit.\nFinde heraus\, was Dich konkurrenzlos werden lässt.\nLebe Deine Freiheit kreiere Dir ein erfülltes Leben als Selbstständige.
URL:https://fachwerk-langenfeld.de/event/create-your-world-dein-weg-in-eine-erfolgreiche-selbstaendigkeit/
LOCATION:Wuppertal
CATEGORIES:Öffentliches Event von einer Fachwerkerin
ATTACH;FMTTYPE=image/jpeg:https://fachwerk-langenfeld.de/wp-content/uploads/2026/04/Magdalena-und-Katja-Create-your-World-q.jpg
ORGANIZER;CN="Katja Eilders":MAILTO:info@eilders.de
END:VEVENT
END:VCALENDAR