BEGIN:VCALENDAR
VERSION:2.0
PRODID:-//Fachwerk Langenfeld - ECPv6.15.20//NONSGML v1.0//EN
CALSCALE:GREGORIAN
METHOD:PUBLISH
X-WR-CALNAME:Fachwerk Langenfeld
X-ORIGINAL-URL:https://fachwerk-langenfeld.de
X-WR-CALDESC:Veranstaltungen für Fachwerk Langenfeld
REFRESH-INTERVAL;VALUE=DURATION:PT1H
X-Robots-Tag:noindex
X-PUBLISHED-TTL:PT1H
BEGIN:VTIMEZONE
TZID:Europe/Berlin
BEGIN:DAYLIGHT
TZOFFSETFROM:+0100
TZOFFSETTO:+0200
TZNAME:CEST
DTSTART:20250330T010000
END:DAYLIGHT
BEGIN:STANDARD
TZOFFSETFROM:+0200
TZOFFSETTO:+0100
TZNAME:CET
DTSTART:20251026T010000
END:STANDARD
BEGIN:DAYLIGHT
TZOFFSETFROM:+0100
TZOFFSETTO:+0200
TZNAME:CEST
DTSTART:20260329T010000
END:DAYLIGHT
BEGIN:STANDARD
TZOFFSETFROM:+0200
TZOFFSETTO:+0100
TZNAME:CET
DTSTART:20261025T010000
END:STANDARD
BEGIN:DAYLIGHT
TZOFFSETFROM:+0100
TZOFFSETTO:+0200
TZNAME:CEST
DTSTART:20270328T010000
END:DAYLIGHT
BEGIN:STANDARD
TZOFFSETFROM:+0200
TZOFFSETTO:+0100
TZNAME:CET
DTSTART:20271031T010000
END:STANDARD
END:VTIMEZONE
BEGIN:VEVENT
DTSTART;TZID=Europe/Berlin:20260424T180000
DTEND;TZID=Europe/Berlin:20260424T210000
DTSTAMP:20260420T154817
CREATED:20260304T162738Z
LAST-MODIFIED:20260304T162952Z
UID:10146-1777053600-1777064400@fachwerk-langenfeld.de
SUMMARY:Mandala Workshop
DESCRIPTION:Ruhe – Gelassenheit – Innenschau – Neue Handlungsmöglichkeiten entdecken. \n  \nAll‘ das und noch viel mehr vermittel ich dir so gerne in meinem Mandala Workshop am 24.  April 2026. Wir starten um 18.00 Uhr in meinen wunderschönen Räumlichkeiten in der Meckelstrasse in Wuppertal. \nFreue dich darauf von den Ursprüngen der Mandalas zu erfahren\, welche Ruhe und Kraft von ihnen ausgeht und wie wohltuend es ist\, wenn du dein ganz eigenes Mandala malst. \nDabei kommt es nicht darauf an\, dass du zeichnen kannst. Es geht viel mehr darum\, dass du Innenschau hälst. Zur Ruhe kommst. Und dich fragst „Wie geht es mir“? „Was ist gerade jetzt“? Lass‘ alle Bewertungen los. Es gibt kein Richtig und kein Falsch. Dann geht es ganz von alleine. \nDa ich selber die bereichernde Erfahrung machen durfte\, welche Gelassenheit und Ruhe sich beim Malen eines Mandalas einstellt\, gebe ich dir an diesem Abend meine Erkenntnisse weiter. \nLerne die wärmende und Geborgenheit schenkende Methode kennen und sei gerne am 24. April dabei. \nFür diesen Workshop ist eine Anmeldung erforderlich.
URL:https://fachwerk-langenfeld.de/event/mandala-workshop/
LOCATION:Wuppertal
CATEGORIES:Öffentliches Event von einer Fachwerkerin
ATTACH;FMTTYPE=image/jpeg:https://fachwerk-langenfeld.de/wp-content/uploads/2026/03/IMG_3979.jpg
ORGANIZER;CN="Iris Scholz":MAILTO:beratung@iris-scholz.de
END:VEVENT
END:VCALENDAR