BEGIN:VCALENDAR
VERSION:2.0
PRODID:-//Fachwerk Langenfeld - ECPv6.15.20//NONSGML v1.0//EN
CALSCALE:GREGORIAN
METHOD:PUBLISH
X-WR-CALNAME:Fachwerk Langenfeld
X-ORIGINAL-URL:https://fachwerk-langenfeld.de
X-WR-CALDESC:Veranstaltungen für Fachwerk Langenfeld
REFRESH-INTERVAL;VALUE=DURATION:PT1H
X-Robots-Tag:noindex
X-PUBLISHED-TTL:PT1H
BEGIN:VTIMEZONE
TZID:Europe/Berlin
BEGIN:DAYLIGHT
TZOFFSETFROM:+0100
TZOFFSETTO:+0200
TZNAME:CEST
DTSTART:20250330T010000
END:DAYLIGHT
BEGIN:STANDARD
TZOFFSETFROM:+0200
TZOFFSETTO:+0100
TZNAME:CET
DTSTART:20251026T010000
END:STANDARD
BEGIN:DAYLIGHT
TZOFFSETFROM:+0100
TZOFFSETTO:+0200
TZNAME:CEST
DTSTART:20260329T010000
END:DAYLIGHT
BEGIN:STANDARD
TZOFFSETFROM:+0200
TZOFFSETTO:+0100
TZNAME:CET
DTSTART:20261025T010000
END:STANDARD
BEGIN:DAYLIGHT
TZOFFSETFROM:+0100
TZOFFSETTO:+0200
TZNAME:CEST
DTSTART:20270328T010000
END:DAYLIGHT
BEGIN:STANDARD
TZOFFSETFROM:+0200
TZOFFSETTO:+0100
TZNAME:CET
DTSTART:20271031T010000
END:STANDARD
END:VTIMEZONE
BEGIN:VEVENT
DTSTART;TZID=Europe/Berlin:20260527T190000
DTEND;TZID=Europe/Berlin:20260527T203000
DTSTAMP:20260423T042506
CREATED:20260202T112425Z
LAST-MODIFIED:20260312T114112Z
UID:9973-1779908400-1779913800@fachwerk-langenfeld.de
SUMMARY:Schläfst du schon oder grübelst du noch?
DESCRIPTION:Kennst du das Gefühl – du gehst müde ins Bett und kannst trotzdem nicht einschlafen? Oder du liegst nachts wach\, während die Gedanken kreisen? \nSchlaf ist ein natürlicher Prozess\, der sich grundsätzlich selbst reguliert. Im Alltag wird er jedoch häufig durch Gewohnheiten\, Stress und innere Anspannung gestört. \nIn diesem 90-minütigen Vortrag erfährst du verständlich und praxisnah\, wie Schlaf entsteht\, welche Faktoren ihn fördern oder behindern und welche verbreiteten Schlafmythen eher schaden als helfen. \nEin besonderer Schwerpunkt liegt auf Gedankenkreisen beim Einschlafen und/oder in der Nacht: du erfährst\, warum Grübeln den Schlaf stört und welche inneren Haltungen sowie alltagstauglichen Strategien dir helfen können\, diesen Kreislauf zu unterbrechen. \nDu erhältst alltagsnahe Beispiele und konkrete Impulse\, um dein eigenes Schlafverhalten zu reflektieren und einen realistischen Umgang mit dem Schlaf zu entwickeln. \nDer Vortrag richtet sich an Erwachsene jeden Alters mit Ein- oder Durchschlafproblemen\, die den Eindruck haben\, dass Stress\, Gedanken und/oder Gewohnheiten dabei eine Rolle spielen. Er versteht sich als Orientierung und Anregung jedoch nicht als schlafmedizinische oder therapeutische Beratung. \nReferentin: Renate Smirr-Klein ist selbstständige Gesundheitspsychologin aus Langenfeld. Als Schlaf-\, Stress- und Resilienztrainerin begleitet sie Kinder\, Jugendliche und Erwachsene auf ihrem Weg zu mehr psychischer Gesundheit. \n🌐 www.resilienz-lounge.de \n 
URL:https://fachwerk-langenfeld.de/event/schlaefst-du-schon-oder-gruebelst-du-noch/
LOCATION:Stadtbibliothek Langenfeld\, Hauptstraße 131\, Langenfeld (Rheinland)\, 40764
CATEGORIES:Öffentliches Event von einer Fachwerkerin
ATTACH;FMTTYPE=image/jpeg:https://fachwerk-langenfeld.de/wp-content/uploads/2026/02/Vortrag_Schlafen_gruen-scaled.jpg
END:VEVENT
END:VCALENDAR