BEGIN:VCALENDAR
VERSION:2.0
PRODID:-//Fachwerk Langenfeld - ECPv6.15.20//NONSGML v1.0//EN
CALSCALE:GREGORIAN
METHOD:PUBLISH
X-WR-CALNAME:Fachwerk Langenfeld
X-ORIGINAL-URL:https://fachwerk-langenfeld.de
X-WR-CALDESC:Veranstaltungen für Fachwerk Langenfeld
REFRESH-INTERVAL;VALUE=DURATION:PT1H
X-Robots-Tag:noindex
X-PUBLISHED-TTL:PT1H
BEGIN:VTIMEZONE
TZID:Europe/Berlin
BEGIN:DAYLIGHT
TZOFFSETFROM:+0100
TZOFFSETTO:+0200
TZNAME:CEST
DTSTART:20250330T010000
END:DAYLIGHT
BEGIN:STANDARD
TZOFFSETFROM:+0200
TZOFFSETTO:+0100
TZNAME:CET
DTSTART:20251026T010000
END:STANDARD
BEGIN:DAYLIGHT
TZOFFSETFROM:+0100
TZOFFSETTO:+0200
TZNAME:CEST
DTSTART:20260329T010000
END:DAYLIGHT
BEGIN:STANDARD
TZOFFSETFROM:+0200
TZOFFSETTO:+0100
TZNAME:CET
DTSTART:20261025T010000
END:STANDARD
BEGIN:DAYLIGHT
TZOFFSETFROM:+0100
TZOFFSETTO:+0200
TZNAME:CEST
DTSTART:20270328T010000
END:DAYLIGHT
BEGIN:STANDARD
TZOFFSETFROM:+0200
TZOFFSETTO:+0100
TZNAME:CET
DTSTART:20271031T010000
END:STANDARD
END:VTIMEZONE
BEGIN:VEVENT
DTSTART;TZID=Europe/Berlin:20260910T163000
DTEND;TZID=Europe/Berlin:20261015T180000
DTSTAMP:20260425T135357
CREATED:20260309T141055Z
LAST-MODIFIED:20260309T141055Z
UID:10166-1789057800-1792087200@fachwerk-langenfeld.de
SUMMARY:Stresshelden - dein Training für innere Stärke (12-14 Jahre)
DESCRIPTION:Jugendliche stehen heute vor vielen Herausforderungen: Leistungsdruck in der Schule\, Stress mit Freunden oder der Familie oder Unsicherheiten im Alltag. Stresshelden unterstützt Jugendliche dabei\, ihre innere Stärke zu entdecken\, Stress besser zu bewältigen und selbstbewusst Entscheidungen zu treffen. In unserem praxisnahen Training lernen Jugendliche\, wie sie mit Druck umgehen\, ihre Gefühle regulieren und persönliche Ressourcen aktiv nutzen können – für mehr Gelassenheit und Sicherheit in Schule & Freizeit. \nInhalte des Trainings: \n\nStress verstehen\, früh erkennen und bewältigen\nGefühle wahrnehmen und regulieren\nInnere Stärke und Selbstwirksamkeit (Glaube an sich selbst) aufbauen\nPraktische Übungen für Ruhe und Ausgleich kennenlernen\nLösungsorientierter Umgang mit Problemen\n\nTermine: \n10.09. / 17.09. / 24.09 / 01.10 / 08.10. / 15.10. jeweils von 16.30 bis 18 Uhr \nKurseinheiten bauen aufeinander auf und sind nicht einzeln buchbar. \nReferentin: Renate Smirr-Klein (M.Sc. Psychologin\, Stress- und Resilienztrainerin für Kinder & Erwachsene \nwww. resilienz-lounge.de
URL:https://fachwerk-langenfeld.de/event/stresshelden-dein-training-fuer-innere-staerke-12-14-jahre/
LOCATION:BEKJ – Beratungsstelle für Eltern\, Kinder und Jugendliche\, Heinestr. 6 (im Mo.Ki Zentrum - 2. Stock\, Raum 2.17)\, Monheim\, 40789
CATEGORIES:Öffentliches Event von einer Fachwerkerin
ATTACH;FMTTYPE=image/png:https://fachwerk-langenfeld.de/wp-content/uploads/2026/03/Stresshelden.png
ORGANIZER;CN="BEKJ - Beratungstelle f%C3%BCr Eltern%2C Kinder und Jugendliche":MAILTO:info@erziehungsberatung-langenfeld.de
END:VEVENT
END:VCALENDAR